BEGIN:VCALENDAR
PRODID:-//Grails iCalendar plugin//NONSGML Grails iCalendar plugin//EN
VERSION:2.0
CALSCALE:GREGORIAN
METHOD:PUBLISH
BEGIN:VEVENT
DTSTAMP:20260422T180341Z
DTSTART;TZID=Europe/Zurich:20260601T140000
DTEND;TZID=Europe/Zurich:20260602T170000
SUMMARY:Verdrängte Opfer: Eugenik\, Biopolitik und die Frage des unwerten Lebens mit Dagmar Herzog
UID:20260427T041225Z-iCalPlugin-Grails@philevents-web-6b96c54f56-bljdq
TZID:Europe/Zurich
LOCATION:Zollikerstrasse 115)\, Zürich\, Switzerland
DESCRIPTION:<p><strong>Workshop: Verdr&auml\;ngte Opfer: Eugenik\, Biopolitik und die Frage des unwerten Lebens</strong></p>\n<p>Universit&auml\;t Z&uuml\;rich</p>\n<p>Organisation: Franziska Felder (Institut f&uuml\;r Erziehungswissenschaft) &amp\; Adam Knowles (Philosophisches Seminar)</p>\n<p><em>Wir bitten um Anmeldung f&uuml\;r den Workshop bei Iris&nbsp\;Hostettler (</em><a href="mailto:sekretariat.felder@ife.uzh.ch"><em>sekretariat.felder@ife.uzh.ch</em></a><em>). F&uuml\;r den Abendvortrag am 01.06. ist keine Voranmeldung n&ouml\;tig.</em></p>\n<p><strong>1. Juni 2026</strong></p>\n<p><strong>Nachmittagsworkshop\, Kutscherhaus\, Ethikzentrum der Universit&auml\;t Z&uuml\;rich (</strong><a  href="https://www.google.com/maps/place/Institut+f%C3%BCr+Biomedizinische+Ethik\,+Zollikerstrasse+115\,+8008+Z%C3%BCrich/@47.3581204\,8.5570079\,17z/data=!3m1!4b1!4m6!3m5!1s0x479aa749ac1462c7:0x4c7886f29c090176!8m2!3d47.3581204!4d8.5595882!16s%2Fg%2F12hvmbn2_?entry=ttu&amp\;g_ep=EgoyMDI2MDQxNS4wIKXMDSoASAFQAw%3D%3D"  target="_blank">Zollikerstrasse 115</a>)<strong></strong></p>\n<p>14.00-15.30 Adam Knowles (Universit&auml\;t Z&uuml\;rich): &bdquo\;The New Fascist Body: Ethnonationalist Discourses of Degeneration and Regeneration&ldquo\;</p>\n<p>16.00-17.30 Franziska Felder (Universit&auml\;t Z&uuml\;rich)\, &bdquo\;Eugenische Phantasmen: Die Neuerfindung der deutschen Sonderp&auml\;dagogik nach 1945 und die Rollen ihrer zentralen Akteure&ldquo\;</p>\n<p><strong>Abendvortrag 18.30-20.00 (UZH KOL F-101\, </strong><a  href="https://www.google.com/maps/place/Universit%C3%A4t+Z%C3%BCrich/@47.3745896\,8.5460826\,17z/data=!3m2!4b1!5s0x479aa0a4419a3b2d:0xa5be9495b56989fb!4m6!3m5!1s0x479aa09f5895858b:0xba50fa52d07edacf!8m2!3d47.3745896!4d8.5486629!16zL20vMDF0cHZ0?entry=ttu&amp\;g_ep=EgoyMDI2MDQxNS4wIKXMDSoASAFQAw%3D%3D"  target="_blank">R&auml\;mistrasse 71</a><strong>)</strong></p>\n<p>Dagmar Herzog (CUNY): &bdquo\;Eugenische Phantasmen &ndash\; Die lange Vor- und Nachgeschichte der NS-&sbquo\;Euthanasie&lsquo\;-Morde&ldquo\;</p>\n<p><strong>2. Juni 2026\, 9:00-16:00</strong></p>\n<p><strong>Kutscherhaus\, Ethikzentrum der Universit&auml\;t Z&uuml\;rich (</strong><a  href="https://www.google.com/maps/place/Institut+f%C3%BCr+Biomedizinische+Ethik\,+Zollikerstrasse+115\,+8008+Z%C3%BCrich/@47.3581204\,8.5570079\,17z/data=!3m1!4b1!4m6!3m5!1s0x479aa749ac1462c7:0x4c7886f29c090176!8m2!3d47.3581204!4d8.5595882!16s%2Fg%2F12hvmbn2_?entry=ttu&amp\;g_ep=EgoyMDI2MDQxNS4wIKXMDSoASAFQAw%3D%3D"  target="_blank">Zollikerstrasse 115</a>)<strong></strong></p>\n<p>9.00-10.00: Marietta Meier (Universit&auml\;t Z&uuml\;rich): &bdquo\;Stillstand am Rande des Fortschritts: &sbquo\;Unheilbar&lsquo\; in der Psychiatrie des 20. Jahrhunderts&rdquo\;</p>\n<p>10.15-11.15: Constantin Kilcher (University of Cambridge): &bdquo\;Auch eine Schweizer Geschichte: der Z&uuml\;rcher Moment der Europ&auml\;ischen Eugenik&ldquo\;</p>\n<p>11.30-12.30: Martin Lengwiler (Universit&auml\;t Basel): &bdquo\;Zwang in modernen Wohlfahrtsstaaten: Erkenntnisse aus der Geschichte der Sozialhilfe&ldquo\;</p>\n<p>13.30-14.30: Regina Schidel (Universit&auml\;t Frankfurt a. M): &bdquo\;Der N&uuml\;tzlichkeitstopos in der Philosophie - Verdinglichung\, instrumentelle Rationalit&auml\;t und deren Kritik&ldquo\;</p>\n<p>14.45-15.45: Lisa Dillinger (Universit&auml\;t Z&uuml\;rich): &bdquo\;&sbquo\;Nie wieder ist jetzt?&lsquo\; Zur Aktualit&auml\;t Adornos &sbquo\;Erziehung nach Auschwitz&lsquo\; in Zeiten demokratischer Erosion&ldquo\;</p>\n<p>15.45: Abschluss</p>\n<p>16.00: Ap&eacute\;ro</p>
ORGANIZER;CN=Adam Knowles:
METHOD:PUBLISH
END:VEVENT
END:VCALENDAR
