BEGIN:VCALENDAR
PRODID:-//Grails iCalendar plugin//NONSGML Grails iCalendar plugin//EN
VERSION:2.0
CALSCALE:GREGORIAN
METHOD:PUBLISH
BEGIN:VEVENT
DTSTAMP:20260423T140756Z
DTSTART;TZID=Europe/Lisbon:20260615T090000
DTEND;TZID=Europe/Lisbon:20260619T170000
SUMMARY:Petrus Hispanus' Tractatus: Logic and Philosophy from the Middle Ages to Modernity 
UID:20260429T171815Z-iCalPlugin-Grails@philevents-web-6b96c54f56-bljdq
TZID:Europe/Lisbon
LOCATION:Via Panorâmica s/n\, Porto\, Portugal\, 4150-564
DESCRIPTION:<p>Call for participation</p>\n<p><strong>3rd Porto Medieval and Early Modern Philosophy Summer School</strong> <strong>Porto\, 15 to 19 June 2026</strong> <strong><em>Petrus Hispanus' Tractatus: Logic and Philosophy from the Middle Ages to Modernity</em></strong></p>\n<p>General information:&nbsp\;<a href="https://ifilosofia.up.pt/activities/3rd-porto-mempss">https://ifilosofia.up.pt/activities/3rd-porto-mempss</a> &nbsp\; &nbsp\;<strong></strong></p>\n<p><strong>Invited speakers</strong></p>\n<p>&mdash\; Ana-Mar&iacute\;a Mora M&aacute\;rquez (Lunds Universitet)</p>\n<p>&mdash\; Aurora Panzica (Universit&auml\;t Basel)</p>\n<p>&mdash\; Julie Brumberg-Chaumont (PSL/CNRS\, Paris)</p>\n<p>&mdash\; Mikko Yrj&ouml\;nsuuri (University of Jyv&auml\;skyl&auml\;)&nbsp\;</p>\n<p>The summer school aims to survey the current state of the art and to promote further research on the&nbsp\;<em>Tractatus</em>&nbsp\;and its reception. We welcome contributions on Petrus Hispanus&rsquo\;<em>&nbsp\;Tractatus</em>&nbsp\;(<em>Summulae logicales</em>) and its tradition\, covering a broad range of topics\, including (but not limited to) those listed here:&nbsp\;<a href="https://ifilosofia.up.pt/activities/3rd-porto-mempss">https://ifilosofia.up.pt/activities/3rd-porto-mempss</a> &nbsp\;</p>\n<p><strong>Participation and call</strong></p>\n<p>Participation is reserved for PhD students\, advanced master's students\, junior researchers who intend to pursue a PhD\, and young scholars.</p>\n<p>We invite submissions of proposals for 30-minute presentations followed by a 15-minute discussion. Along with the title\, the abstract (up to 600 words)\, references and 5 keywords\, the proposal should include a short biographical note.</p>\n<p>Please\, send your proposal by March 30\, 2026\, to this address:&nbsp\;<a href="mailto:gfm_summerschool@letras.up.pt">gfm_summerschool@letras.up.pt</a>&nbsp\; The decision of acceptance will be released to the applicants by April 15\, 2026.</p>\n<p>The school will accept 10 to 15 participants. No fees apply to the selected participants. Catering and all school materials will be provided by the organisation.</p>\n<p>Participants from outside Porto can apply for a travel and accommodation grant (up to 500 euros).<strong></strong></p>\n<p><strong>Organisation</strong></p>\n<p>Gabinete de Filosofia Medieval / Medieval and Early Modern Philosophy thematic line of the Institute of Philosophy of the University of Porto. &nbsp\;</p>
ORGANIZER;CN="José Meirinhos";CN=Vera Rodrigues:
METHOD:PUBLISH
END:VEVENT
END:VCALENDAR
