BEGIN:VCALENDAR
PRODID:-//Grails iCalendar plugin//NONSGML Grails iCalendar plugin//EN
VERSION:2.0
CALSCALE:GREGORIAN
METHOD:PUBLISH
BEGIN:VEVENT
DTSTAMP:20260424T143919Z
DTSTART;TZID=America/New_York:20260425T090000
DTEND;TZID=America/New_York:20260425T170000
SUMMARY:2026 UConn Annual Philosophy Graduate Conference
UID:20260425T105842Z-iCalPlugin-Grails@philevents-web-6b96c54f56-bljdq
TZID:America/New_York
LOCATION:231 Glenbrook Rd\, Storrs\, Storrs\, United States\, 06269
DESCRIPTION:<p><u><br>Schedule:</u> <br>9:00-9:45 a.m.&nbsp\; Registration and Breakfast (Lunch)&nbsp\; <br>9:45-10 a.m.&nbsp\;&nbsp\;&nbsp\;&nbsp\;&nbsp\;&nbsp\;&nbsp\;&nbsp\;&nbsp\;&nbsp\;&nbsp\;&nbsp\;&nbsp\; &nbsp\;&nbsp\;&nbsp\;&nbsp\;&nbsp\;&nbsp\;&nbsp\;&nbsp\;&nbsp\;&nbsp\;&nbsp\; &nbsp\;Welcoming Remarks&nbsp\; <br>10:00-11:30 a.m.&nbsp\; &nbsp\; &nbsp\; &nbsp\; &nbsp\; &nbsp\; &nbsp\; &nbsp\; &nbsp\; &nbsp\; &nbsp\;L.A. Paul&nbsp\;&nbsp\;Keynote<br>11:30- 12:30 p.m.&nbsp\;&nbsp\;&nbsp\;&nbsp\;&nbsp\; &nbsp\;&nbsp\;&nbsp\;&nbsp\;&nbsp\;&nbsp\;&nbsp\;&nbsp\;&nbsp\;&nbsp\;&nbsp\; &nbsp\;First Presentation Danny Belgrad (Columbia University) --&nbsp\;<strong>"Murdochian Attention Explains Weakness of Will&rdquo\;</strong> &nbsp\; <br>12:30 - 2 p.m. &nbsp\;&nbsp\;&nbsp\;&nbsp\;&nbsp\;&nbsp\;&nbsp\;&nbsp\;&nbsp\;&nbsp\; &nbsp\;&nbsp\;&nbsp\;&nbsp\;&nbsp\;&nbsp\;&nbsp\;&nbsp\;&nbsp\;&nbsp\;&nbsp\; &nbsp\;Lunch&nbsp\; &nbsp\; <br>2:00-3:00 p.m.&nbsp\;&nbsp\;&nbsp\;&nbsp\;&nbsp\;&nbsp\;&nbsp\;&nbsp\;&nbsp\;&nbsp\;&nbsp\;&nbsp\;&nbsp\;&nbsp\;&nbsp\;&nbsp\;&nbsp\;&nbsp\;&nbsp\;&nbsp\;&nbsp\;&nbsp\; &nbsp\;Second Presentation&nbsp\; Steven Hernadez (City University of New York) --&nbsp\;<strong>&ldquo\;Autism and Conversation Styles&rdquo\;</strong> &nbsp\; <br>3:00-4:00 p.m.&nbsp\;&nbsp\;&nbsp\;&nbsp\;&nbsp\;&nbsp\;&nbsp\;&nbsp\;&nbsp\;&nbsp\;&nbsp\; &nbsp\; &nbsp\; &nbsp\; &nbsp\; &nbsp\; &nbsp\;&nbsp\;Third Presentation&nbsp\; Lancy Lopez (California State University\, Long Beach) --&nbsp\;<strong>"Intervening on Autonomy Interferences: Paternalistic Bald-Faced Lies"</strong> &nbsp\; <br>4:00-5:00 p.m.&nbsp\;&nbsp\;&nbsp\;&nbsp\;&nbsp\;&nbsp\;&nbsp\;&nbsp\;&nbsp\;&nbsp\;&nbsp\;&nbsp\;&nbsp\;&nbsp\;&nbsp\;&nbsp\;&nbsp\;&nbsp\;&nbsp\;&nbsp\;&nbsp\;&nbsp\; &nbsp\;Fourth Presentation (Online) Colin Anthony Smith MacNairn (McMaster University) --&nbsp\;<strong>"On Testimony\, Capital\, and Credibility Economy: A New-Marxists Perspective on Emancipatory Epistemology"</strong> &nbsp\; <br>5:00-6:00 p.m.&nbsp\;&nbsp\;&nbsp\;&nbsp\;&nbsp\;&nbsp\;&nbsp\;&nbsp\;&nbsp\;&nbsp\;&nbsp\;&nbsp\;&nbsp\;&nbsp\;&nbsp\;&nbsp\;&nbsp\;&nbsp\;&nbsp\;&nbsp\;&nbsp\;&nbsp\; &nbsp\;Fifth Presentation (Online) Yunlong Cao (University of California-Irvine) --&nbsp\;<strong>"The Personal Identity Assumption in External World Skeptical Scenarios"&nbsp\;</strong> &nbsp\; <br>6-6:15 p.m.&nbsp\;&nbsp\;&nbsp\;&nbsp\;&nbsp\;&nbsp\;&nbsp\;&nbsp\;&nbsp\;&nbsp\;&nbsp\;&nbsp\;&nbsp\;&nbsp\;&nbsp\; &nbsp\;Closing Remarks&nbsp\; &nbsp\; &nbsp\; Lunch will be provided in the&nbsp\;ROWE 132. A dinner will also be held with conference participants and the Keynote.&nbsp\; &nbsp\; &nbsp\; &nbsp\;&nbsp\;</p>
ORGANIZER;CN=Antoine Gillett;CN=Martin Aguilera Valdes;CN=Matthew Warren;CN=Utku Sonsayar;CN=J. Addison Fowler:
METHOD:PUBLISH
END:VEVENT
END:VCALENDAR
