BEGIN:VCALENDAR
PRODID:-//Grails iCalendar plugin//NONSGML Grails iCalendar plugin//EN
VERSION:2.0
CALSCALE:GREGORIAN
METHOD:PUBLISH
BEGIN:VEVENT
DTSTAMP:20260424T163141Z
DTSTART;TZID=Europe/London:20260430T130000
DTEND;TZID=Europe/London:20260430T140000
SUMMARY:Against a Duty to Make the Future Go Best (April 30\, 1pm CET)
UID:20260425T164041Z-iCalPlugin-Grails@philevents-web-6b96c54f56-bljdq
TZID:Europe/London
ORGANIZER;CN=Hugo Viciana;CN="Pablo Magaña":
METHOD:PUBLISH
END:VEVENT
END:VCALENDAR
