BEGIN:VCALENDAR
PRODID:-//Grails iCalendar plugin//NONSGML Grails iCalendar plugin//EN
VERSION:2.0
CALSCALE:GREGORIAN
METHOD:PUBLISH
BEGIN:VEVENT
DTSTAMP:20260425T143011Z
DTSTART;TZID=Europe/London:20260427T100000
DTEND;TZID=Europe/London:20260428T170000
SUMMARY:UniGR Graduate Conference in Philosophy 2026
UID:20260427T113936Z-iCalPlugin-Grails@philevents-web-6b96c54f56-bljdq
TZID:Europe/London
LOCATION:University of Liege\, Place du 20-Août 7\, Liège\, Belgium
DESCRIPTION:<p>This conference brings together doctoral candidates from the University of the Greater Region (UniGR) across all areas of philosophy to present and discuss their current research. The programme will also feature two professional keynote speeches given by Prof. Ernesto Castro (Autonomous University of Madrid) and Prof. Martine Nida-R&uuml\;melin (Universit&eacute\; de Fribourg). The aim of the conference is to foster engagement and connections across the UniGR network.</p>\n<p>For more information\, please contact efield@uliege.be.&nbsp\;</p>
ORGANIZER;CN=Ethan Harley Field;CN=Christian Blanco:
METHOD:PUBLISH
END:VEVENT
END:VCALENDAR
