BEGIN:VCALENDAR
PRODID:-//Grails iCalendar plugin//NONSGML Grails iCalendar plugin//EN
VERSION:2.0
CALSCALE:GREGORIAN
METHOD:PUBLISH
BEGIN:VEVENT
DTSTAMP:20260425T154621Z
DTSTART;TZID=Europe/Istanbul:20260515T234500
DTEND;TZID=Europe/Istanbul:20260515T234500
SUMMARY:Nature of Law and Legal Reality (IVR Special Workshop)
UID:20260427T132727Z-iCalPlugin-Grails@philevents-web-6b96c54f56-bljdq
TZID:Europe/Istanbul
LOCATION:Cibali\, Kadir Has Cd.\, 34083 Cibali / Fatih/Fatih/İstanbul\, Турция\, İstanbul\, Turkey
DESCRIPTION:<p>The workshop &ldquo\;Nature of Law and Legal Reality&rdquo\; explores how contemporary legal philosophy and jurisprudence understand what law is and how legal phenomena exist in social and empirical reality. It is designed as an intensive discussion where participants reconsider classical debates in the philosophy of law in light of new empirical\, ontological\, and interdisciplinary developments.</p>\n<p>The workshop aims to bring together philosophers of law\, legal theorists\, doctrinal scholars to articulate more refined accounts of both the nature of law and the structure of legal reality. By confronting traditional jurisprudential questions with contemporary disputes about ontology\, pluralism\, and empirical method\, participants will seek to map promising directions for future research and to clarify what is at stake in ongoing controversies.</p>\n<p>Topics for discussion include\, among others:</p>\n<p>(1) Concept and nature of law</p>\n<p>&ndash\; What do we mean when we claim that law has a &ldquo\;nature&rdquo\;: are we identifying essential properties\, common patterns\, or merely theoretical constructs?</p>\n<p>&ndash\; Is it still plausible to think that philosophy of law must provide necessary and sufficient conditions for the existence of legal systems\, or should we adopt more modest\, pluralistic\, or practice‑oriented frameworks?</p>\n<p>&ndash\; How should we understand the relationship between law and morality today: as strict separation\, necessary connection\, or context‑sensitive interaction between moral and institutional facts?</p>\n<p>(2) Legal Reality and Ontology</p>\n<p>&ndash\; In what sense do legal entities&mdash\;rights\, duties\, persons\, corporate bodies\, or digital assets&mdash\;&ldquo\;exist\,&rdquo\; and how does their mode of existence differ from that of physical objects or social conventions?</p>\n<p>&ndash\; How do courts and other legal actors exercise &ldquo\;ontological discretion&rdquo\; when they choose among competing ways of construing the reality of contested objects such as death\, incapacity\, or intoxication?</p>\n<p>&ndash\; Can we speak of multiple\, overlapping legal realities generated by different legal orders and epistemic communities\, and if so\, how do these realities interact in transnational or pluralist settings?</p>\n<p>(3) Legal Methodology and Interdisciplinarity</p>\n<p>&ndash\; What is the proper role of conceptual analysis in contemporary legal theory when empirical\, sociological\, and psychological research increasingly shape our understanding of law in action?</p>\n<p>&ndash\; How can philosophy of law integrate insights from empirical legal studies\, new legal realism\, and social ontology without losing its distinctive normative and analytical focus?</p>\n<p>&ndash\; To what extent should theories of the nature of law be evaluated not only on their internal coherence\, but also on their explanatory power regarding actual institutional practices and disputes about legal reality?</p>\n<p>&nbsp\;Prospective participants are invited to submit abstracts (500&ndash\;1000 words) by 15 May to a_didikin@kazguu.kz and abdidikin@mail.kz.</p>\n<p>To facilitate discussion\, participants are warmly encouraged to circulate a final paper by 1 June 2026.</p>
ORGANIZER;CN=Anton Didikin:
METHOD:PUBLISH
END:VEVENT
BEGIN:VEVENT
DTSTAMP:20260425T154621Z
DTSTART;TZID=Europe/Istanbul:20260629T090000
DTEND;TZID=Europe/Istanbul:20260703T170000
SUMMARY:Nature of Law and Legal Reality (IVR Special Workshop)
UID:20260427T132728Z-iCalPlugin-Grails@philevents-web-6b96c54f56-bljdq
TZID:Europe/Istanbul
LOCATION:Cibali\, Kadir Has Cd.\, 34083 Cibali / Fatih/Fatih/İstanbul\, Турция\, İstanbul\, Turkey
DESCRIPTION:<p>The workshop &ldquo\;Nature of Law and Legal Reality&rdquo\; explores how contemporary legal philosophy and jurisprudence understand what law is and how legal phenomena exist in social and empirical reality. It is designed as an intensive discussion where participants reconsider classical debates in the philosophy of law in light of new empirical\, ontological\, and interdisciplinary developments.</p>\n<p>The workshop aims to bring together philosophers of law\, legal theorists\, doctrinal scholars to articulate more refined accounts of both the nature of law and the structure of legal reality. By confronting traditional jurisprudential questions with contemporary disputes about ontology\, pluralism\, and empirical method\, participants will seek to map promising directions for future research and to clarify what is at stake in ongoing controversies.</p>\n<p>Topics for discussion include\, among others:</p>\n<p>(1) Concept and nature of law</p>\n<p>&ndash\; What do we mean when we claim that law has a &ldquo\;nature&rdquo\;: are we identifying essential properties\, common patterns\, or merely theoretical constructs?</p>\n<p>&ndash\; Is it still plausible to think that philosophy of law must provide necessary and sufficient conditions for the existence of legal systems\, or should we adopt more modest\, pluralistic\, or practice‑oriented frameworks?</p>\n<p>&ndash\; How should we understand the relationship between law and morality today: as strict separation\, necessary connection\, or context‑sensitive interaction between moral and institutional facts?</p>\n<p>(2) Legal Reality and Ontology</p>\n<p>&ndash\; In what sense do legal entities&mdash\;rights\, duties\, persons\, corporate bodies\, or digital assets&mdash\;&ldquo\;exist\,&rdquo\; and how does their mode of existence differ from that of physical objects or social conventions?</p>\n<p>&ndash\; How do courts and other legal actors exercise &ldquo\;ontological discretion&rdquo\; when they choose among competing ways of construing the reality of contested objects such as death\, incapacity\, or intoxication?</p>\n<p>&ndash\; Can we speak of multiple\, overlapping legal realities generated by different legal orders and epistemic communities\, and if so\, how do these realities interact in transnational or pluralist settings?</p>\n<p>(3) Legal Methodology and Interdisciplinarity</p>\n<p>&ndash\; What is the proper role of conceptual analysis in contemporary legal theory when empirical\, sociological\, and psychological research increasingly shape our understanding of law in action?</p>\n<p>&ndash\; How can philosophy of law integrate insights from empirical legal studies\, new legal realism\, and social ontology without losing its distinctive normative and analytical focus?</p>\n<p>&ndash\; To what extent should theories of the nature of law be evaluated not only on their internal coherence\, but also on their explanatory power regarding actual institutional practices and disputes about legal reality?</p>\n<p>&nbsp\;Prospective participants are invited to submit abstracts (500&ndash\;1000 words) by 15 May to a_didikin@kazguu.kz and abdidikin@mail.kz.</p>\n<p>To facilitate discussion\, participants are warmly encouraged to circulate a final paper by 1 June 2026.</p>
ORGANIZER;CN=Anton Didikin:
METHOD:PUBLISH
END:VEVENT
END:VCALENDAR
