BEGIN:VCALENDAR
PRODID:-//Grails iCalendar plugin//NONSGML Grails iCalendar plugin//EN
VERSION:2.0
CALSCALE:GREGORIAN
METHOD:PUBLISH
BEGIN:VEVENT
DTSTAMP:20260420T092928Z
DTSTART;TZID=Europe/Berlin:20260529T090000
DTEND;TZID=Europe/Berlin:20260531T170000
SUMMARY:Dia:logos
UID:20260424T170124Z-iCalPlugin-Grails@philevents-web-f5d4878dd-nv7xt
TZID:Europe/Berlin
LOCATION:Rathenaustraße 10\, Gießen\, Germany\, 35394
DESCRIPTION:<p>Dia:logos ist eine studentische Tagung f&uuml\;r Philosophie\, die Studierenden der JLU und anderer Universit&auml\;ten den Raum gibt\, einander und einer interessierten &Ouml\;ffentlichkeit eigene Gedanken und Ideen zu philosophischen Fragestellungen zu pr&auml\;sentieren. Hausarbeiten\, Essays\, Abschlussarbeiten\, einmal performte Vortr&auml\;ge\, Referatsausarbeitungen oderpers&ouml\;nliche philosophische Forschungsprojekte verlassen das pers&ouml\;nliche Textarchiv. Sie werden in einem 30-min&uuml\;tigen Vortragsformat einem gemischten Publikum vorgestellt und anschlie&szlig\;end gemeinsam diskutiert.</p>
ORGANIZER:
METHOD:PUBLISH
END:VEVENT
END:VCALENDAR
