BEGIN:VCALENDAR
PRODID:-//Grails iCalendar plugin//NONSGML Grails iCalendar plugin//EN
VERSION:2.0
CALSCALE:GREGORIAN
METHOD:PUBLISH
BEGIN:VEVENT
DTSTAMP:20260421T084120Z
DTSTART;TZID=America/Sao_Paulo:20260423T090000
DTEND;TZID=America/Sao_Paulo:20260424T170000
SUMMARY:I Congresso de Filosofia do Comportamento Econômico
UID:20260422T211114Z-iCalPlugin-Grails@philevents-web-6b96c54f56-bljdq
TZID:America/Sao_Paulo
LOCATION:Faculdade Jesuíta de Filosofia e Teologia\, Belo Horizonte\, Brazil
DESCRIPTION:<p>Quando: 23 e 24/04 de 2026<br> Modalidade: H&iacute\;brido (presencial\, com transmiss&otilde\;es on-line ao vivo)<br> Inscri&ccedil\;&otilde\;es: At&eacute\; 16/04/2026 para participa&ccedil\;&atilde\;o geral.</p>\n<p><strong>I Congresso de Filosofia do Comportamento Econ&ocirc\;mico</strong></p>\n<p>O I Congresso de Filosofia do Comportamento Econ&ocirc\;mico surge como um f&oacute\;rum para unir docentes\, discentes e profissionais de filosofia\, economia\, psicologia\, teologia\, pol&iacute\;tica\, direito e &aacute\;reas afins. Em um mundo marcado pelo surgimento de tecnologias disruptivas\, por crises financeiras\, pelo aprofundamento das desigualdades e por desafios clim&aacute\;ticos e ambientais\, urge examinar tanto os pressupostos que orientam nossas decis&otilde\;es econ&ocirc\;micas quanto os impactos da atividade econ&ocirc\;mica na vida coletiva\, considerando sua rela&ccedil\;&atilde\;o com valores\, convic&ccedil\;&otilde\;es\, emo&ccedil\;&otilde\;es\, racionalidade\, espiritualidade e justi&ccedil\;a social.&nbsp\; O objetivo &eacute\; criar um espa&ccedil\;o f&eacute\;rtil para o debate acerca da economia entendida como uma atividade humana impregnada de valores\, convic&ccedil\;&otilde\;es\, emo&ccedil\;&otilde\;es\, racionalidades\, com um poder transformador decisivo sobre a vida coletiva e o planeta.</p>\n<p><strong>Realiza&ccedil\;&atilde\;o:&nbsp\;</strong>FAJE e UFSJ</p>\n<p><strong>Quando:</strong> 23 e 24/04 de 2026<br> <strong>Modalidade:</strong> H&iacute\;brido (presencial\, com transmiss&otilde\;es on-line ao vivo)</p>\n<p>PROGRAMA&Ccedil\;&Atilde\;O</p>\n<p><strong>Dia 23/04</strong></p>\n<p>13:30 &ndash\; Abertura do evento<br> 14:00 &ndash\; Confer&ecirc\;ncia: <em>Vaidade\, a emo&ccedil\;&atilde\;o da busca da riqueza</em> &ndash\; Prof. Dra. Nara Rela (FAJE)<br> 15:00 &ndash\; Intervalo<br> 15: 15 &ndash\; Comunica&ccedil\;&otilde\;es Orais<br> 16:00 &ndash\; Confer&ecirc\;ncia: <em>Emo&ccedil\;&otilde\;es morais\, poder direcionador e manipula&ccedil\;&atilde\;o afetiva </em>&ndash\; Prof. Dr. Rog&eacute\;rio Picoli (UFSJ)<br> 17:15 &ndash\; Comunica&ccedil\;&otilde\;es</p>\n<p><strong>Dia 24/04</strong></p>\n<p>14:00 &ndash\; Confer&ecirc\;ncia: <em>Racionalidade e o Nudging digital</em> &ndash\; Prof. Dr. Carlos Barth (FAJE)<br> 15:00 &ndash\; Intervalo<br> 15: 15 &ndash\; Comunica&ccedil\;&otilde\;es Orais<br> 16:00 &ndash\; Confer&ecirc\;ncia: <em>Da Escolha &Oacute\;tima &agrave\; Escolha Poss&iacute\;vel: A Psicologia Financeira como Cr&iacute\;tica &agrave\; Racionalidade</em> &ndash\; Prof. Ms. Celso Sant&rsquo\;Ana (FEA/USP)<br> 17:00 &ndash\; Intervalo<br> 17:15 &ndash\; Confer&ecirc\;ncia: <em>Crise financeira e dor cr&ocirc\;nica</em> &ndash\; Prof. Dr. Daniel De Luca-Noronha (FAJE)<br> 18:15 &ndash\; Comunica&ccedil\;&otilde\;es Orais</p>\n<p>*** COMUNICA&Ccedil\;&Otilde\;ES ORAIS</p>\n<p>Os resumos das Comunica&ccedil\;&otilde\;es Orais dever&atilde\;o ser enviados\, no ato de inscri&ccedil\;&atilde\;o\, at&eacute\; o dia <strong>12/04/2026</strong>.CLIQUE AQUI PARA FAZER O DOWNLOAD DOS CRIT&Eacute\;RIOS PARA ENVIOS DE RESUMO E TEXTO COMPLETO.</p>\n<p><strong>Eixos Tem&aacute\;ticos das Comunica&ccedil\;&otilde\;es Orais:</strong></p>\n<p>&ndash\; Eixo 1: &Eacute\;tica e Economia\;<br> &ndash\; Eixo 2: Economia\, finan&ccedil\;as e tend&ecirc\;ncias globais\;<br> &ndash\; Eixo 3: Economia e capitalismo informacional.</p>\n<p><strong>Investimento:</strong></p>\n<p>Graduandos/Graduados: R$ 40\,00<br> Especialistas: R$ 50\,00<br> Mestrandos: R$ 60\,00<br> Mestres: R$ 60\,00<br> Doutorandos: R$ 65\,00<br> Doutores: R$ 75\,00</p>\n<p><strong>***</strong>INSCRI&Ccedil\;&Otilde\;ES</p>\n<p>Inscri&ccedil\;&otilde\;es Gerais: at&eacute\; 16/04/2026</p>\n<p>Inscri&ccedil\;&otilde\;es com submiss&atilde\;o de proposta de Comunica&ccedil\;&atilde\;o Oral: 12/04/2026</p>\n<p>Investimento Participa&ccedil\;&atilde\;o Geral: Gratuito (sem certificado) | R$ 30\,00 com emiss&atilde\;o de certificado</p>\n<p><a href="https://forms.igestor.com/?id=69ba95658fe0a05b4cf8b0f1">INSCREVA-SE AQUI!</a>*** COMISS&Otilde\;ES</p>\n<p><strong>Comiss&atilde\;o cient&iacute\;fica:</strong></p>\n<p>Prof. Dr. Carlos Barth (FAJE)<br> Prof. Dr. Daniel De Luca (FAJE)<br> Prof. Dr. Rog&eacute\;rio Picoli (UFSJ)<br> Profa. Dra. Nara Rela (FAJE)</p>\n<p><strong>Comiss&atilde\;o organizadora:</strong></p>\n<p>Prof. Dr. Daniel De Luca (FAJE)<br> Prof. Dr. Carlos Barth (FAJE)<br> Profa. Dra. Nara Rela (FAJE)<br> Prof. Dr. Rog&eacute\;rio Picoli (UFSJ)</p>
ORGANIZER;CN=Carlos Barth;CN=Daniel de Luca;CN=Nara Rela;CN=Rogerio Antonio Picoli:
METHOD:PUBLISH
END:VEVENT
END:VCALENDAR
