BEGIN:VCALENDAR
PRODID:-//Grails iCalendar plugin//NONSGML Grails iCalendar plugin//EN
VERSION:2.0
CALSCALE:GREGORIAN
METHOD:PUBLISH
BEGIN:VEVENT
DTSTAMP:20260421T194552Z
DTSTART;TZID=America/New_York:20260501T090000
DTEND;TZID=America/New_York:20260502T170000
SUMMARY:Rutgers Epistemology Conference 2026
UID:20260424T072711Z-iCalPlugin-Grails@philevents-web-6b96c54f56-bljdq
TZID:America/New_York
LOCATION:The Heldrich Hotel\, 10 Livingston Ave\, New Brunswick\, NJ 08901\, New Brunswick\, United States\, 08901
DESCRIPTION:<p>The 2026 edition of the Rutgers Epistemology Conference will take place May 1 and 2\, 2026 at The Heldrich hotel in New Brunswick. The REC is a pre-read conference. The papers will be posted on the website:&nbsp\;https://juancomesana.org/rec</p>\n<p>The <strong>speakers</strong> will be John Bengson\, Pamela Hieronymi\, Sarah Paul\, Declan Smithies\, and Gideon Rosen.&nbsp\;The <strong>commentators</strong> will be Selim Berker\, Rachel Fraser\, Sarah McGrath\, and Kurt Sylvan.&nbsp\;</p>\n<p>Please register by sending an email to&nbsp\;rutgersepistemologyconference@gmail.com.&nbsp\;</p>\n<p>There will be a conference dinner on Friday and a lunch on Saturday and we hope that everyone participates in the meals. Participation in meals will cost $100 total &nbsp\;if you are faculty and postdocs and $70 total if you are a graduate student or an undergraduate. You can pay via a link on the website (above).&nbsp\;</p>\n<p>The Rutgers Epistemology Conference invites submissions to the Young Epistemologist Prize. The author of the prize-winning essay will present it at the Rutgers Epistemology Conference and it will be published in Philosophy and Phenomenological Research. The winner of the prize will receive an award of $1\,000 and all travel and accommodation expenses connected with attending the conference will be covered. Please see&nbsp\;https://juancomesana.org/rec#yep for details. The Young Epistemology Prize will also be posted on PhilEvents as a CfP.&nbsp\;</p>\n<p>Please direct inquiries to Adrian Liu\, conference manager\, at&nbsp\;rutgersepistemologyconference@gmail.com</p>
ORGANIZER;CN="Juan Comesaña";CN=Adrian Liu:
METHOD:PUBLISH
END:VEVENT
END:VCALENDAR
