BEGIN:VCALENDAR
PRODID:-//Grails iCalendar plugin//NONSGML Grails iCalendar plugin//EN
VERSION:2.0
CALSCALE:GREGORIAN
METHOD:PUBLISH
BEGIN:VEVENT
DTSTAMP:20260421T212408Z
DTSTART;TZID=Europe/Zurich:20260507T140000
DTEND;TZID=Europe/Zurich:20260509T170000
SUMMARY:Perspectives on the Foundations of Information Theory and Statistical Mechanics
UID:20260424T130804Z-iCalPlugin-Grails@philevents-web-6b96c54f56-bljdq
TZID:Europe/Zurich
LOCATION:Università della Svizzera italiana\, Lugano\, Switzerland
DESCRIPTION:<p>This 3-day workshop examines the foundational significance of information theory and statistical mechanics for understanding entropy\, probability\, and physical information. The workshop will bring together philosophers of physics\, physicists\, and computer scientists to explore entropy and information as physically grounded notions. Key topics that will be discussed include the relationship between entropy and information\, the role of correlations and entanglement in defining physical states\, and the interpretation of entanglement entropy as physical information.&nbsp\;</p>\n<p>The list of invited speakers as well as the full programme will be circulated soon.</p>\n<p>We <strong>invite</strong> <strong>submissions of abstracts for two contributed talks</strong> at the workshop (see the PhilEvents CFP link).</p>\n<p>This workshop is generously supported by the Swiss National Science Foundation (SNSF) through a Scientific Exchange grant (grant number IZSEZ0_241781).</p>\n<p>For information and to register\, please contact: Niccol&ograve\; Covoni (niccolo.covoni@usi.ch) or Lorenzo Lorenzetti (lorenzo.lorenzetti@usi.ch)</p>
ORGANIZER;CN=Lorenzo Lorenzetti;CN="Niccolò Covoni";CN=Joshua Babic:
METHOD:PUBLISH
END:VEVENT
END:VCALENDAR
