BEGIN:VCALENDAR
PRODID:-//Grails iCalendar plugin//NONSGML Grails iCalendar plugin//EN
VERSION:2.0
CALSCALE:GREGORIAN
METHOD:PUBLISH
BEGIN:VEVENT
DTSTAMP:20260420T073216Z
DTSTART;TZID=America/Chicago:20260722T090000
DTEND;TZID=America/Chicago:20260726T170000
SUMMARY:Responding to the Contemporary World: Wrong Answers Only
UID:20260424T081519Z-iCalPlugin-Grails@philevents-web-f5d4878dd-nv7xt
TZID:America/Chicago
LOCATION:102 S Tejon Street\, Colorado Springs\, United States\, 80918
DESCRIPTION:<p>We invite submissions for the annual meeting of the Society for Philosophy in the Contemporary World\, to be held July 22-26\, 2026 at the University of Colorado\, Colorado Springs in Colorado Springs\, Colorado. Of particular interest are papers that engage with this year&rsquo\;s theme: <em>Responding to the Contemporary World: Wrong Answers Only</em>. However\, we also welcome and encourage papers on any topic related to philosophy in the contemporary world\, broadly construed.</p>\n<p>SPCW seeks to provide a forum for new areas of research in philosophy\, and we aim to build a community of scholars who provide supportive feedback and constructive criticism. We welcome papers on all topics\, from any philosophical tradition. SPCW is especially interested in supporting individuals from historically underrepresented and marginalized backgrounds\, as well as anyone working to expand the scope and quality of philosophical discourses. In addition to traditional papers and presentations\, SPCW welcomes diverse formats such as spoken word\, script readings\, performances\, and other approaches that invite and broaden philosophical reflection. Furthermore\, we welcome the camaraderie of graduate students\, nontraditional philosophers\, and thinkers from other disciplines or with non-philosophical specializations. Simply put\, we seek to foster productive philosophical exchange in a constructive environment.</p>
ORGANIZER;CN=Jennifer Kling;CN=Eddy Souffrant:
METHOD:PUBLISH
END:VEVENT
END:VCALENDAR
