BEGIN:VCALENDAR
PRODID:-//Grails iCalendar plugin//NONSGML Grails iCalendar plugin//EN
VERSION:2.0
CALSCALE:GREGORIAN
METHOD:PUBLISH
BEGIN:VEVENT
DTSTAMP:20260421T212246Z
DTSTART;TZID=America/New_York:20260808T090000
DTEND;TZID=America/New_York:20260808T090000
SUMMARY:15th Annual Florida State University Free Will\, Moral Responsibility\, and Agency Conference
UID:20260424T130533Z-iCalPlugin-Grails@philevents-web-6b96c54f56-bljdq
TZID:America/New_York
LOCATION:Tallahassee\, United States\, 32304
DESCRIPTION:<p>The Philosophy Graduate Student Association (PGSA) of Florida State University is now accepting submissions for their graduate conference on free will\, moral responsibility\, and agency.</p>\n<p>The conference will take place at Florida State University on <strong>October 15-16 2026</strong>.</p>\n<p>Keynote speakers will be:</p>\n<p>&middot\;&nbsp\;&nbsp\;&nbsp\;&nbsp\;&nbsp\;&nbsp\;<strong>Zo&euml\; Johnson King</strong>\, Harvard University</p>\n<p>&middot\;&nbsp\;&nbsp\;&nbsp\;&nbsp\;&nbsp\; <strong>David Shoemaker\, </strong>Cornell University</p>\n<p>The conference will be held in Dodd Hall Auditorium. Conference participants can access the auditorium via either stairs or ramps\, and wheelchair accessible tables as well as theater-style seats are available in the auditorium. Microphones will be available for presenters. The conference is currently planned to be held in-person.</p>\n<p>Those interested in submitting papers related to free will\, moral responsibility\, or the wider notion of agency should email their submissions to fsupgsa@gmail.com. Papers should be submitted along with a cover page. The criteria for the paper submission and cover page are as follows:</p>\n<p>&nbsp\;<br><u>Paper Requirements:</u></p>\n<p>&middot\;&nbsp\;&nbsp\;&nbsp\;&nbsp\;&nbsp\; Prepared for anonymous review</p>\n<p>&middot\;&nbsp\;&nbsp\;&nbsp\;&nbsp\;&nbsp\; No more than 4\,000 words</p>\n<p>&middot\;&nbsp\;&nbsp\;&nbsp\;&nbsp\;&nbsp\; Suitable for 25-minute presentation</p>\n<p>&middot\;&nbsp\;&nbsp\;&nbsp\;&nbsp\;&nbsp\; Preceded by an abstract of 150-250 words</p>\n<p><u>Cover Page Requirements:</u></p>\n<p>&middot\;&nbsp\;&nbsp\;&nbsp\;&nbsp\;&nbsp\;&nbsp\;Presenter&rsquo\;s name</p>\n<p>&middot\;&nbsp\;&nbsp\;&nbsp\;&nbsp\;&nbsp\;&nbsp\;Institutional affiliation</p>\n<p>&middot\;&nbsp\;&nbsp\;&nbsp\;&nbsp\;&nbsp\;&nbsp\;Contact information (email address or phone number)</p>\n<p>&middot\;&nbsp\;&nbsp\;&nbsp\;&nbsp\;&nbsp\;&nbsp\;Title of paper</p>\n<p>&middot\;&nbsp\;&nbsp\;&nbsp\;&nbsp\;&nbsp\;&nbsp\;150-250 word abstract of the paper&nbsp\;</p>\n<p>&middot\;&nbsp\;&nbsp\;&nbsp\;&nbsp\;&nbsp\;&nbsp\;Word count of the paper</p>\n<p><strong>The deadline for submissions is August 8th\, 2026.</strong> We will notify those whose papers have been accepted no later than September 16\, 2026.</p>\n<p>For questions or further information\, please contact Justice Cabantangan (jac24m at fsu.edu). You may also visit the conference website at https://philosophy.fsu.edu/free-will-conference. (The website is currently under maintenance.)</p>
ORGANIZER;CN=Justice Cabantangan:
METHOD:PUBLISH
END:VEVENT
BEGIN:VEVENT
DTSTAMP:20260421T212246Z
DTSTART;TZID=America/New_York:20261016T090000
DTEND;TZID=America/New_York:20261017T170000
SUMMARY:15th Annual Florida State University Free Will\, Moral Responsibility\, and Agency Conference
UID:20260424T130534Z-iCalPlugin-Grails@philevents-web-6b96c54f56-bljdq
TZID:America/New_York
LOCATION:Tallahassee\, United States\, 32304
DESCRIPTION:<p>The conference will take place at Florida State University on October 16-17\, 2026. The conference is open to any who is interested in attending.&nbsp\;If you would like to attend and require further information\, please email&nbsp\;Justice Cabantangan (jac24m at fsu.edu). The conference website (https://philosophy.fsu.edu/free-will-conference)&nbsp\;is currently under maintenance.</p>\nhttps://philosophy.fsu.edu/free-will-conference</a>
ORGANIZER;CN=Justice Cabantangan:
METHOD:PUBLISH
END:VEVENT
END:VCALENDAR
