BEGIN:VCALENDAR
PRODID:-//Grails iCalendar plugin//NONSGML Grails iCalendar plugin//EN
VERSION:2.0
CALSCALE:GREGORIAN
METHOD:PUBLISH
BEGIN:VEVENT
DTSTAMP:20260421T212409Z
DTSTART;TZID=Europe/Berlin:20260727T120000
DTEND;TZID=Europe/Berlin:20260731T170000
SUMMARY:Passau Summer School for Applied Ethics 2026 - Ethics of Migration: Justice\, Rights\, Responsibilities
UID:20260424T130805Z-iCalPlugin-Grails@philevents-web-6b96c54f56-bljdq
TZID:Europe/Berlin
LOCATION:Innstraße 27\, Passau\, Germany
DESCRIPTION:<p>Are you eager to explore the ethical questions that arise from migration? Do you want to exchange ideas with international scholars and actively engage in discussions about justice\, rights\, and responsibility in both European and global contexts?&nbsp\;</p>\n<p><strong>Then apply now for the Passau Summer School for Applied Ethics!</strong>&nbsp\;</p>\n<p>This year\, PASSAE focuses on migration ethics. Together\, we will examine pressing questions such as: How can theories of justice be applied to real-world migration challenges? What responsibilities do states and societies have toward refugees and migrants? How can the rights of particularly vulnerable groups in migration be protected? How do climate change and technology shape migration and our ethical duties? PASSAE 2026 creates an international platform that fosters exchange among students from diverse fields. Participants will learn from experts\, collaborate in teams\, and explore normative aspects of migration. You&rsquo\;ll also get to experience the charming city of Passau with its rich cultural heritage.&nbsp\;</p>\n<p><strong>Application Details</strong></p>\n<p>Interested in becoming part of PASSAE? Here&rsquo\;s how to apply: Submit a letter of motivation (max. 350 words) outlining your interest in the topic and what you hope to gain from the experience (deadline: March 15 2026).&nbsp\;Please note that\, upon acceptance\, there will be a <strong>participation fee of 75&euro\;.</strong></p>
ORGANIZER;CN=Karoline Reinhardt:
METHOD:PUBLISH
END:VEVENT
BEGIN:VEVENT
DTSTAMP:20260421T212409Z
DTSTART;TZID=Europe/Berlin:20261005T090000
DTEND;TZID=Europe/Berlin:20261007T170000
SUMMARY:Deliberative Democratic Innovations: Challenges and Opportunities from a Constitutional Perspective
UID:20260424T130806Z-iCalPlugin-Grails@philevents-web-6b96c54f56-bljdq
TZID:Europe/Berlin
LOCATION:Innstr. 27\, Passau\, Germany\, 94032
DESCRIPTION:<p>We are looking for two contributions for a panel entitled&nbsp\;"Deliberative Democratic Innovations: Challenges and Opportunities from a Constitutional Perspective"&nbsp\;as part of the conference&nbsp\;<em>Backsliding\, Resilience\, Renewal? Democracy in Eras of Transformation</em>\, which will take place at the&nbsp\;University of Passau\, Germany from&nbsp\;Monday 5th&nbsp\;to Wednesday 7th&nbsp\;October 2026. Submissions of up to 400 words should be made directly onto the&nbsp\;webpage&nbsp\;from Wednesday 26th&nbsp\;November to <strong>Monday 15th&nbsp\;December 2025</strong>. Notification of acceptance will be made by Tuesday 20th&nbsp\;January 2026.</p>\n<p>For organisational inquiries\, please contact Silvia Haider (<u>second.congress@uni-passau.de</u>). The panel is part of the transatlantic project "Open Constitutional Democracy: Reconciling Deliberation and Constitutional Democracy". More information about the call for papers and the panel proposal can be found on the link below. We look forward to your submission!</p>
ORGANIZER;CN="Sonia Anaid Cruz Dávila":
METHOD:PUBLISH
END:VEVENT
END:VCALENDAR
