BEGIN:VCALENDAR
PRODID:-//Grails iCalendar plugin//NONSGML Grails iCalendar plugin//EN
VERSION:2.0
CALSCALE:GREGORIAN
METHOD:PUBLISH
BEGIN:VEVENT
DTSTAMP:20260422T230805Z
DTSTART;TZID=Europe/London:20260507T160000
DTEND;TZID=Europe/London:20260507T180000
SUMMARY:Giulia DE CESARIS (Torino) - 'Tra percezione e spazio/tempo: un argomento senocrateo sull’esperienza o sulla realtà?'
UID:20260428T014202Z-iCalPlugin-Grails@philevents-web-6b96c54f56-bljdq
TZID:Europe/London
DESCRIPTION:<p>Link Microsoft Teams:&nbsp\;https://teams.microsoft.com/meet/361465226425174?p=7dRqrrh0JeJwVLReJN</a></p>
ORGANIZER;CN=Roberto Granieri;CN=Riccardo Chiaradonna:
METHOD:PUBLISH
END:VEVENT
END:VCALENDAR
