BEGIN:VCALENDAR
PRODID:-//Grails iCalendar plugin//NONSGML Grails iCalendar plugin//EN
VERSION:2.0
CALSCALE:GREGORIAN
METHOD:PUBLISH
BEGIN:VEVENT
DTSTAMP:20260419T163412Z
DTSTART;TZID=Asia/Hong_Kong:20260529T090000
DTEND;TZID=Asia/Hong_Kong:20260531T170000
SUMMARY:Karl Popper in China
UID:20260421T072732Z-iCalPlugin-Grails@philevents-web-f5d4878dd-nv7xt
TZID:Asia/Hong_Kong
LOCATION:HKUST\, Hong Kong\, Hong Kong
DESCRIPTION:<p>Karl Popper in China</p>\n<p>29 - 31 May 2026\, HKUST</p>\n<p>Keynote Speakers<br>Adam Chmielewski (University of Wroclaw)<br>Zhilin Zhang (Fudan University)<br><br>Organising Committee<br>Zaza Doborjginidze<br>Xiaotao Liu (co-chair)</p>\n<p>Yafeng Shan (co-chair)<br>Qinyi Wang</p>\n<p>Qiyue Zhang<br><br>Funder<br>The Karl Popper Charitable Trust<br><br>Conference Description<br>Karl Popper (1902-1994) is widely considered as one of the mostinfluential philosophers of science and one of the most prolific thinkers in the 20th century. His work heavily influenced the development of philosophy of science in China\, especially in the late 1970s and early 1980s. Many renown Chinese philosophers of science were first attracted to the field because of their reading of Popper. In 1987\, there was a conference on Popper's philosophy at Wuhan University\, sponsored by George Soros\, Popper's for er student. It featured talks by leading Popper scholars and philosophers of science (e.g. I n Hacking and Alan Musgrave) and leading Chinese philosophers (e.g. Fan Dainian and Jiang Tianji) at the time. The proceedings of the conference were published as an edited volume by Routledge in 1992. Recently there was a revival of interest in the work of KarlPopper in China. This conference aims to examine the influence of Popper&rsquo\;s work on the development of philosophy of science in China and assess and explore his legacy on contemporary philosophy of science in China.</p>\n<p><br>Flyer<br><br>Submit an abstract (https://app.oxfordabstracts.com/stages/80087/submitter) (Deadline: 5 March 2026)<br><br>Programme<br><br>Registration (Deadline: 29 April 2026)</p>\n<p>https://www.eventbrite.co.uk/e/1979376924665<br><br><br>Contact<br>If you have any questions\, please contact Qiyue Zhang (qiyue.zhang@connect.ust.hk). .</p>
ORGANIZER;CN=Yafeng Shan:
METHOD:PUBLISH
END:VEVENT
BEGIN:VEVENT
DTSTAMP:20260419T163412Z
DTSTART;TZID=Europe/London:20260531T234500
DTEND;TZID=Europe/London:20260531T234500
SUMMARY:Journal of Contemporary Chinese Philosophy
UID:20260421T072733Z-iCalPlugin-Grails@philevents-web-f5d4878dd-nv7xt
TZID:Europe/London
DESCRIPTION:<p>Callfor Papers: Chinese Philosophy and Psychological Wellbeing</p>\n<p>Deadline for Submissions: 31 May 2026</p>\n<p>Guest Editor: Yuchen Liang liangyc@cuhk.edu.cn</p>\n<p>Submit at: Editorial Manager for JCCP&nbsp\;&nbsp\;https://www.editorialmanager.com/jccp/default.aspx</p>\n<p>Modern mental health is often framed through a Western clinical lens. This Special Issue explores how Chinese philosophy&mdash\;both ancient and contemporary&mdash\;provide a different map for the human &ldquo\;heart-mind&rdquo\; (xin 心). We want to bridge the gap between abstract philosophy and the lived experience of wellbeing\, looking at everything from ancient concepts of gan感 and qing 情 to how Chinese thought can help us survive the modern &ldquo\;attention economy&rdquo\; and mental health crisis.</p>\n<p>Key Themes &amp\;Areas of Interest:</p>\n<p>Defining the Healthy Self: How do Confucian\, Daoist\, and Chinese Buddhist texts define a &ldquo\;well&rdquo\; person? How does this differ from Western notions of mental health? Can we use Chinese standards like qingzhi 情志 in addition to contemporary frameworks like the DSM-5?</p>\n<p>Philosophical Psychotherapy: Using Chinese concepts in clinical settings or as frameworks for mental health treatment such as the &ldquo\;Indigenous psychology&rdquo\; (本土心理學).</p>\n<p>The &ldquo\;Attention Economy&rdquo\; &amp\; Psychopolitics: How Chinese philosophy can critique or resist the digital exhaustion of modern life\, or combination of psychology and technology in social control?</p>\n<p>The Ethics of Care: How Chinese medical ethics (traditional Chinese medicine) and theories of the self(gongfulun 功夫論) change how we approach psychologicalsuffering and psycho-physiological illness?</p>\n<p>Chinese Affect Theory: How Chinese conceptslike gan 感 and qing 情 construct unique approach regarding Western originated concepts like affects and emotions?</p>\n<p>Types of Submissions We&rsquo\;re Looking For:</p>\n<p>Historical Research: Deep dives into ancient texts with a focus on psychological application.</p>\n<p>Contemporary Critique: How Chinese philosophy interacts with modern political and social pressures.</p>\n<p>Comparative Pieces: Dialogues between Chinese thought and Western psychology.</p>\n<p>Case Studies: Philosophical reflections on mental health practices or specific psychological phenomena.</p>
ORGANIZER:
METHOD:PUBLISH
END:VEVENT
BEGIN:VEVENT
DTSTAMP:20260419T163412Z
DTSTART;TZID=Asia/Hong_Kong:20260601T090000
DTEND;TZID=Asia/Hong_Kong:20260612T170000
SUMMARY:The Kyoto School: Totality and Contradiction 
UID:20260421T072734Z-iCalPlugin-Grails@philevents-web-f5d4878dd-nv7xt
TZID:Asia/Hong_Kong
LOCATION:Chinese university of Hong Kong\, Hong Kong\, Hong Kong\, 99999
DESCRIPTION:<p>While major Western philosophical movements in the 20th century looked upon claims to absolute knowledge with deep suspicion\, the Kyoto School never abandoned philosophy's sacred vocation to know the absolute. Against the dominant disposition to look upon contradiction as an obstacle to absolute knowledge\, the Kyoto School recognizes contradiction as the key to unlocking the secrets of absolute totality. The Summer School will think with major thinkers of the Kyoto School on totality and contradiction. Philosophizing with Nishida\, Takahashi\, Tanabe\, Nishitani\, Ueda\, Miki\, Tosaka\, and Watsuji\, the Summer School will also explore the contemporary relevance of the Kyoto School for philosophical thought in the 21st century.</p>
ORGANIZER;CN=Gregory S. Moss;CN=Dennis Prooi;CN=Kyle Peters:
METHOD:PUBLISH
END:VEVENT
BEGIN:VEVENT
DTSTAMP:20260419T163412Z
DTSTART;TZID=Asia/Shanghai:20260605T080000
DTEND;TZID=Asia/Shanghai:20260607T170000
SUMMARY:A Summer of Social Ontology in Wuhan
UID:20260421T072735Z-iCalPlugin-Grails@philevents-web-f5d4878dd-nv7xt
TZID:Asia/Shanghai
LOCATION:Wuhan\, China
ORGANIZER;CN=Peter Finocchiaro:
METHOD:PUBLISH
END:VEVENT
BEGIN:VEVENT
DTSTAMP:20260419T163412Z
DTSTART;TZID=America/Los_Angeles:20260614T090000
DTEND;TZID=America/Los_Angeles:20260626T170000
SUMMARY:Self-knowledge for Humans and Artificial Systems
UID:20260421T072736Z-iCalPlugin-Grails@philevents-web-f5d4878dd-nv7xt
TZID:America/Los_Angeles
LOCATION:Philosophy Hall\, Berkeley\, United States\, 94720-2390
DESCRIPTION:<p>Questions about the scope and limits of self-knowledge have been and continue to be the focus of intense philosophical debate. This two-week interdisciplinary institute aims to explore the problem of self-knowledge\, from its classical roots in philosophy and contemplative traditions\, to contemporary discussions of metacognitive AI.</p>
ORGANIZER;CN=Christian Coseru;CN="Alva Noë";CN=Evan Thompson:
METHOD:PUBLISH
END:VEVENT
BEGIN:VEVENT
DTSTAMP:20260419T163412Z
DTSTART;TZID=America/Denver:20260615T000000
DTEND;TZID=America/Denver:20260615T000000
SUMMARY:Second Annual UNM Asian Philosophy Graduate Conference 
UID:20260421T072737Z-iCalPlugin-Grails@philevents-web-f5d4878dd-nv7xt
TZID:America/Denver
LOCATION:1 University of New Mexico \, Albuquerque\, United States
DESCRIPTION:<p>We are pleased to announce the second annual UNM Asian Philosophy Graduate Conference\, hosted by the University of New Mexico Department of Philosophy. We invite master&rsquo\;s and Ph.D. students in Philosophy\, Religious Studies\, Asian Studies\, and related disciplines to submit papers for presentation. The conference aims to provide a platform for emerging scholars to engage in meaningful dialogue on ancient and modern Asian philosophical traditions\, which include (but are not necessarily limited to) those from South Asia\, East Asia\, Southeast Asia\, West Asia\, Tibet\, Central Asia\, and Islamic traditions.</p>\n\n<p>We accept papers on any topic or issue as long as there is substantial engagement with Asian philosophy. Papers that are comparative in nature are welcome\, although the primary focus should be on some aspect of Asian philosophy (e.g.\, we are unlikely to accept a paper that mostly focuses on Wittgenstein but only briefly discusses Kong Zi). Papers concerning diversifying philosophy curricula and canon are also welcomed.</p>\n<p><strong>Please visit the link below for the official CFP and submission link.</strong></p>\n<p><strong>https://linktr.ee/apgc.unm</strong></p>
ORGANIZER;CN=Rui Teng Phoebe Mak;CN=Jack Swick;CN=Sanghyeon Kim;CN=Addison Hinton;CN=Utkarsh Chawla;CN=Kedar Patwary:
METHOD:PUBLISH
END:VEVENT
BEGIN:VEVENT
DTSTAMP:20260419T163412Z
DTSTART;TZID=Europe/Brussels:20260703T090000
DTEND;TZID=Europe/Brussels:20260708T170000
SUMMARY:Summer School Desire and Decay in Japanese Philosophy
UID:20260421T072738Z-iCalPlugin-Grails@philevents-web-f5d4878dd-nv7xt
TZID:Europe/Brussels
LOCATION:Rodestraat 14\, Antwerpen\, Belgium\, 2000
DESCRIPTION:<p>Join us for an engaging five-day summer school at the University of Antwerp\, where you will delve into the significant themes of<strong>&nbsp\;mortality\, desire\, and decay within Japanese ethics and aesthetics</strong>. This intensive programme combines philosophical inquiry with insights from literature and contemporary art\, enabling participants to explore how these concepts impact ethical thought and aesthetic expression in both Japanese and Western cultures.&nbsp\;&nbsp\;</p>\n<p><strong>Key themes&nbsp\;</strong>include an introduction to impermanence and decay in Japanese thought\, intersections with process philosophy\, and the cultural implications of kawaii (cuteness) alongside the exploration of Shinto perspectives and contemporary artistic representations.&nbsp\;<strong>Guest lecturers&nbsp\;</strong>will share their expertise\, enhancing discussions through&nbsp\;<strong>interdisciplinary case studies and interactive seminars</strong>.&nbsp\;<strong>Confirmed lecturers are Masahiro Morioka\, Thorsten Botz-Bornstein\, Kyoko Kasuya\, Takeshi Morisato\,&nbsp\; Adam&nbsp\;Loughnane\,&nbsp\;Camil Valerio Rist&egrave\;\, Manon Paredis\, Tom Hannes\,&nbsp\;Franlu Vulliermet\,&nbsp\;Bart Vandeput\, Christina Stadlbauer\,&nbsp\; Kristien Hens</strong>. By the end of the course\, you will gain an understanding of&nbsp\;<strong>how Japanese philosophical traditions address the complexities of life\, death\, and the human experience</strong>.</p>\n\n
ORGANIZER:
METHOD:PUBLISH
END:VEVENT
BEGIN:VEVENT
DTSTAMP:20260419T163412Z
DTSTART;TZID=America/Denver:20261105T090000
DTEND;TZID=America/Denver:20261106T170000
SUMMARY:Second Annual UNM Asian Philosophy Graduate Conference 
UID:20260421T072739Z-iCalPlugin-Grails@philevents-web-f5d4878dd-nv7xt
TZID:America/Denver
LOCATION:1 University of New Mexico \, Albuquerque\, United States
DESCRIPTION:<p>We are pleased to announce the second annual UNM Asian Philosophy Graduate Conference\, hosted by the University of New Mexico Department of Philosophy. We invite master&rsquo\;s and Ph.D. students in Philosophy\, Religious Studies\, Asian Studies\, and related disciplines to submit papers for presentation. The conference aims to provide a platform for emerging scholars to engage in meaningful dialogue on ancient and modern Asian philosophical traditions\, which include (but are not necessarily limited to) those from South Asia\, East Asia\, Southeast Asia\, West Asia\, Tibet\, Central Asia\, and Islamic traditions.</p>\n<p>We accept papers on any topic or issue as long as there is substantial engagement with Asian philosophy. Papers that are comparative in nature are welcome\, although the primary focus should be on some aspect of Asian philosophy (e.g.\, we are unlikely to accept a paper that mostly focuses on Wittgenstein but only briefly discusses Kong Zi). Papers concerning diversifying philosophy curricula and canon are also welcomed.</p>
ORGANIZER;CN=Rui Teng Phoebe Mak;CN=Jack Swick;CN=Sanghyeon Kim;CN=Addison Hinton;CN=Utkarsh Chawla;CN=Kedar Patwary:
METHOD:PUBLISH
END:VEVENT
BEGIN:VEVENT
DTSTAMP:20260419T163412Z
DTSTART;TZID=Europe/Vienna:20270628T070000
DTEND;TZID=Europe/Vienna:20270628T070000
SUMMARY:‘The Ethics of Empty Beliefs: Conversations with Buddhist Philosophy’
UID:20260421T072740Z-iCalPlugin-Grails@philevents-web-f5d4878dd-nv7xt
TZID:Europe/Vienna
LOCATION:Dominikanerbastei 16\, Vienna\, Austria\, 1010
DESCRIPTION:<p>As part of a Starting Grant funded by the European Research Council\, I am pleased to invite proposals for participation in a conference on &lsquo\;The Ethics of Empty Beliefs: Conversations with Buddhist Philosophy&rsquo\; scheduled to be held at the Institute for the Cultural and Intellectual History of Asia (IKGA)\, part of the Austrian Academy of Sciences (OEAW)\, in Vienna on 28-30 June 2027.&nbsp\;</p>\n<p>Paper proposals are invited from philosophers working with Western and/or Buddhist sources on any topic concerned with the ethics of belief\, broadly understood. Thus\, for example\, papers may be proposed regarding topics such as (but not limited to) the nature of belief\, the norms of belief and&nbsp\;normativity in relation to belief\,&nbsp\;evidence and evidentialism\, and the epistemic basing relation.&nbsp\;Discussions concerning the relationship of belief (including in terms of its&nbsp\;formation\, maintenance\, and/or relinquishment)&nbsp\;to notions such as&nbsp\;credence\, view\, judgment\, assent\, conviction\, faith\, trust\, hope\, and knowledge (or their analogues in Buddhist sources)&nbsp\;are welcome\, as are those concerning&nbsp\;the relationship of&nbsp\;belief (and its ethics) to faculties such as consciousness\, cognition\, discernment\, conceptualization\, view-holding\, volition\, sensation\, and emotion (or their analogues in Buddhist sources).</p>\n<p>The research project of which this conference forms part is titled&nbsp\;<em>The Ethics of Empty Beliefs: Chinese Buddhist Philosophy in the &lsquo\;Period of Disunity&rsquo\;</em>&nbsp\;(ChinBuddhPhil)\; for more information\, see&nbsp\;https://www.oeaw.ac.at/projects/chinbuddhphil. The project aims to bring Buddhist philosophical sources into conversation with Western ones\, on the understanding that Buddhist philosophers merit consideration not only as historical artifacts but as genuinely interesting and insightful contributors to live philosophical problems. As such\, the conference is intended to be dialogical\, with specialists of relevant Western and Buddhist philosophical materials engaging in debate regarding overlapping topics\, positions\, and arguments.</p>\n<p>Philosophers specializing in Western sources from any of the ancient\, medieval\, modern\, or contemporary philosophical canons are welcome to apply\; they need possess no prior knowledge of relevant Buddhist materials or debates.</p>\n<p>As for philosophers specializing in Buddhist sources\, in line with the overall focus of the ChinBuddhPhil project on the Sanlun&nbsp\;三論&nbsp\;school of Chinese Buddhist philosophy\, those proposing papers on Sanlun are especially welcome to apply. More broadly\, however\, the call is open to philosophers specializing in Chinese Buddhist sources beyond Sanlun\, and more broadly still to those specializing in sources from any other among the Buddhist traditions spanning diverse geographical regions and temporal periods. Philosophers specializing in Buddhist sources need possess no prior knowledge of relevant Western materials or debates.</p>\n<p>Edited volumes based on two prior project conferences have already been submitted to Oxford University Press. An edited book comprised of chapters based on the papers presented at this conference is also planned\, and potential speakers should keep in mind that they will be invited to submit a written chapter (6\,000-9\,000 words) based on their oral presentation. Each participant will also be invited to prepare a short response to another paper (1\,000-2\,000 words)\, thereby allowing philosophers working with Western sources to engage\, from within their own sphere of expertise\, with Buddhist materials\, and vice-versa. Draft papers will thus be pre-circulated to respondents.</p>\n<p>Timeline:</p>\n<p>&middot\;&nbsp\;&nbsp\;1 June 2026: Deadline for submission of paper proposals.</p>\n<p>&middot\;&nbsp\;&nbsp\;1 July 2026: Announcement of accepted papers.</p>\n<p>&middot\;&nbsp\;&nbsp\;1 April 2027: Deadline for submission of draft papers.</p>\n<p>&middot\;&nbsp\;&nbsp\;28-30 June 2027: In-person conference in Vienna.</p>\n<p>&middot\;&nbsp\;&nbsp\;1 September 2027: Deadline for submission of final papers.</p>\n<p>Those interested in taking part are welcome to send 1) a paper abstract of circa 500 words\, and 2) a CV or link to a professional profile\, to&nbsp\;rafal.stepien@oeaw.ac.at&nbsp\;by the&nbsp\;1st&nbsp\;of June 2026. Requests for further information are also welcome. In a dedicated effort to counteract long-standing discrimination\, women and members of other identity-groups still under-represented in academe are especially encouraged to apply. This is an in-person conference\; accommodation in Vienna for participants will be funded by the organizers\, and funds are also foreseen to be available to offset travel costs to and from Vienna for those participants with no alternative sources of funding.</p>\n<p><strong><br></strong></p>\n<p><strong>Rafal K. Stepien</strong></p>\n<p>Principal Researcher\, Institute for the Cultural and Intellectual History of Asia\, Austrian Academy of Sciences.</p>\n<p>Principal Investigator\, &lsquo\;The Ethics of Empty Beliefs: Chinese Buddhist Philosophy in the &ldquo\;Period of Disunity&rdquo\;&rsquo\;\, European Research Council.</p>
ORGANIZER;CN=Rafal Stepien:
METHOD:PUBLISH
END:VEVENT
BEGIN:VEVENT
DTSTAMP:20260419T163412Z
DTSTART;TZID=Europe/Vienna:20270628T090000
DTEND;TZID=Europe/Vienna:20270630T170000
SUMMARY:‘The Ethics of Empty Beliefs: Conversations with Buddhist Philosophy’
UID:20260421T072741Z-iCalPlugin-Grails@philevents-web-f5d4878dd-nv7xt
TZID:Europe/Vienna
LOCATION:Dominikanerbastei 16\, Vienna\, Austria\, 1010
DESCRIPTION:<p>As part of a Starting Grant funded by the European Research Council\, I am pleased to invite proposals for participation in a conference on &lsquo\;The Ethics of Empty Beliefs: Conversations with Buddhist Philosophy&rsquo\; scheduled to be held at the Institute for the Cultural and Intellectual History of Asia (IKGA)\, part of the Austrian Academy of Sciences (OEAW)\, in Vienna on 28-30 June 2027.&nbsp\;</p>\n<p>Paper proposals are invited from philosophers working with Western and/or Buddhist sources on any topic concerned with the ethics of belief\, broadly understood. Thus\, for example\, papers may be proposed regarding topics such as (but not limited to) the nature of belief\, the norms of belief and&nbsp\;normativity in relation to belief\,&nbsp\;evidence and evidentialism\, and the epistemic basing relation.&nbsp\;Discussions concerning the relationship of belief (including in terms of its&nbsp\;formation\, maintenance\, and/or relinquishment)&nbsp\;to notions such as&nbsp\;credence\, view\, judgment\, assent\, conviction\, faith\, trust\, hope\, and knowledge (or their analogues in Buddhist sources)&nbsp\;are welcome\, as are those concerning&nbsp\;the relationship of&nbsp\;belief (and its ethics) to faculties such as consciousness\, cognition\, discernment\, conceptualization\, view-holding\, volition\, sensation\, and emotion (or their analogues in Buddhist sources).</p>\n<p>The research project of which this conference forms part is titled&nbsp\;<em>The Ethics of Empty Beliefs: Chinese Buddhist Philosophy in the &lsquo\;Period of Disunity&rsquo\;</em>&nbsp\;(ChinBuddhPhil)\; for more information\, see&nbsp\;https://www.oeaw.ac.at/projects/chinbuddhphil. The project aims to bring Buddhist philosophical sources into conversation with Western ones\, on the understanding that Buddhist philosophers merit consideration not only as historical artifacts but as genuinely interesting and insightful contributors to live philosophical problems. As such\, the conference is intended to be dialogical\, with specialists of relevant Western and Buddhist philosophical materials engaging in debate regarding overlapping topics\, positions\, and arguments.</p>\n<p>Philosophers specializing in Western sources from any of the ancient\, medieval\, modern\, or contemporary philosophical canons are welcome to apply\; they need possess no prior knowledge of relevant Buddhist materials or debates.</p>\n<p>As for philosophers specializing in Buddhist sources\, in line with the overall focus of the ChinBuddhPhil project on the Sanlun&nbsp\;三論&nbsp\;school of Chinese Buddhist philosophy\, those proposing papers on Sanlun are especially welcome to apply. More broadly\, however\, the call is open to philosophers specializing in Chinese Buddhist sources beyond Sanlun\, and more broadly still to those specializing in sources from any other among the Buddhist traditions spanning diverse geographical regions and temporal periods. Philosophers specializing in Buddhist sources need possess no prior knowledge of relevant Western materials or debates.</p>\n<p>Edited volumes based on two prior project conferences have already been submitted to Oxford University Press. An edited book comprised of chapters based on the papers presented at this conference is also planned\, and potential speakers should keep in mind that they will be invited to submit a written chapter (6\,000-9\,000 words) based on their oral presentation. Each participant will also be invited to prepare a short response to another paper (1\,000-2\,000 words)\, thereby allowing philosophers working with Western sources to engage\, from within their own sphere of expertise\, with Buddhist materials\, and vice-versa. Draft papers will thus be pre-circulated to respondents.</p>\n<p>Timeline:</p>\n<p>&middot\;&nbsp\;&nbsp\;1 June 2026: Deadline for submission of paper proposals.</p>\n<p>&middot\;&nbsp\;&nbsp\;1 July 2026: Announcement of accepted papers.</p>\n<p>&middot\;&nbsp\;&nbsp\;1 April 2027: Deadline for submission of draft papers.</p>\n<p>&middot\;&nbsp\;&nbsp\;28-30 June 2027: In-person conference in Vienna.</p>\n<p>&middot\;&nbsp\;&nbsp\;1 September 2027: Deadline for submission of final papers.</p>\n<p>Those interested in taking part are welcome to send 1) a paper abstract of circa 500 words\, and 2) a CV or link to a professional profile\, to&nbsp\;rafal.stepien@oeaw.ac.at&nbsp\;by the&nbsp\;1st&nbsp\;of June 2026. Requests for further information are also welcome. In a dedicated effort to counteract long-standing discrimination\, women and members of other identity-groups still under-represented in academe are especially encouraged to apply. This is an in-person conference\; accommodation in Vienna for participants will be funded by the organizers\, and funds are also foreseen to be available to offset travel costs to and from Vienna for those participants with no alternative sources of funding.</p>\n<p><strong><br></strong></p>\n<p><strong>Rafal K. Stepien</strong></p>\n<p>Principal Researcher\, Institute for the Cultural and Intellectual History of Asia\, Austrian Academy of Sciences.</p>\n<p>Principal Investigator\, &lsquo\;The Ethics of Empty Beliefs: Chinese Buddhist Philosophy in the &ldquo\;Period of Disunity&rdquo\;&rsquo\;\, European Research Council.</p>
ORGANIZER;CN=Rafal Stepien:
METHOD:PUBLISH
END:VEVENT
BEGIN:VEVENT
DTSTAMP:20260419T163412Z
DTSTART;TZID=Europe/London:20300531T090000
DTEND;TZID=Europe/London:20300531T090000
SUMMARY:Phenomenologies of Religious Experience
UID:20260421T072742Z-iCalPlugin-Grails@philevents-web-f5d4878dd-nv7xt
TZID:Europe/London
DESCRIPTION:<p>This series invites proposals in classical phenomenology\, French phenomenology\, pre- and post-phenomenologies\, and in methodologies that bridge phenomenology and analytic philosophy. The relation between phenomenology and religious experience can be considered in a variety of modes: epistemic (phenomenology as a "rigorous science" of religious experience in Husserl's sense)\; ontic (phenomenology as a way to access the core motive\, or regulative ideal\, of religion)\; analogical (phenomenological experience as a secular version of religious experience)\; generalizing (religious experience turning into phenomenological experience when stripped from its dogmatic frame)\, etc. Proposals can take critical\, descriptive\, theoretical\, comparative\, historical\, or other approaches\, and they can focus on the interplay between religious or spiritual experience and assorted theoretical approaches\, or proceed from such experience towards building a new theory. In accord with Husserl&rsquo\;s original intent\, the series welcomes attempts to locate spiritual or religious experience within a broader theory of the sciences (Wissenschaftslehre) and to expand phenomenology towards transcendental philosophy and metaphysics.<br><br>The series covers five areas:<br>1) Clarifications of religious and spiritual experience\, its formal phenomenological research\, and its relationships to art\, textuality\, culture\, anthropology\, politics\, and comparative religion\;<br>2) Metaphysical extensions of the phenomenology of religious and spiritual experience\;<br>3) Existential and psychological analyses\, in different traditions\, of religious and spiritual experience\;<br>4) Theologies of religious experience\, with or beyond a specific focus on ritual and liturgy\, including liberation theologies\, feminist theologies\, theologies at the intersection of religious experience and race\, social status\, etc.\;<br>5) The phenomenology of religious and spiritual experience as applied to and/ or examined within medicine\, nursing\, and the health sciences and the natural and social sciences.<br><br>The series is published in cooperation with the Society for the Phenomenology of Religious Experience\,&nbsp\;www.sophere.org.<br><br><br>Editors:&nbsp\;Michael Barber (michael.barber@slu.edu)\, Peter Costello (PCOSTELL@providence.edu)\, Olga Louchakova-Schwartz (founding editor\,&nbsp\;olouch@ucdavis.edu)\, and Martin Nitsche (nitsche@flu.cas.cz)</p>\n\n<p><br>Advisory Board:&nbsp\;Jason Alvis (University of Vienna)\, Angela Ales Bello (Pontifical Lateran University)\, Michel Bitbol (The French National Center for Scientific Research)\, Carla Canullo (University of Macerata)\, David Ciavatta (Ryerson University)\, Crina Gschwandtner (Fordham University)\, Neal DeRoo (The King&rsquo\;s University)\, Thomas Fuchs (University of Heidelberg)\, James G. Hart (University of Indiana)\, Richard Kearney (Boston College)\, Jeff McCurry (Duquesne University)\, Felix O&rsquo\;Murchadha (National University of Ireland\, Galway)\, Dermot Moran (Boston College)\, Tom Nenon (The University of Memphis)\, Ryōsuke Ōhashi (Universities of Kyoto and Osaka)\, Vincent Pastro (Jesuit School of Theology of Santa Clara University and Aquinas Institute of Theology\, St Louis)\, Hans Rainer Sepp (Charles University)\, Michel Staudigl (University of Vienna)\, Claudia Welz (Aarhus University)<br>Staff editorial contact:&nbsp\;Jana Hodges-Kluck (jhodges-kluck@rowman.com)&nbsp\;</p>
ORGANIZER:
METHOD:PUBLISH
END:VEVENT
END:VCALENDAR
